BEGIN:VCALENDAR
VERSION:2.0
PRODID:-//wp-events-plugin.com//7.2.3.1//EN
TZID:Europe/Zurich
X-WR-TIMEZONE:Europe/Zurich
BEGIN:VEVENT
UID:346@millepoetesenmediterranee.org
DTSTART;TZID=Europe/Paris:20260424T000000
DTEND;TZID=Europe/Paris:20260525T000000
DTSTAMP:20260415T200722Z
URL:https://millepoetesenmediterranee.org/events/reguy-bayle-fenetres/
SUMMARY:Reguy Bayle "Fenêtres"
DESCRIPTION:Réguy Bayles  « Fenêtres » \nThéâtralisation assumée
 \, performance artistique dans son exposition\,  les « Fenêtres » Rég
 uy Bayle scénarise et met en scène des visages qu’elle compose à l’
 aide de différents matériaux. Déclinaison expressive\, chacun d’eux e
 st une lucarne ouverte sur notre imaginaire \; que pense cette femme\, que
  regarde cet homme ? Sous les doigts de l’artiste l’intime et le sensi
 ble prennent la parole…\n\nVernissage le vendredi 24 avril à 18 h
ATTACH;FMTTYPE=image/jpeg:https://millepoetesenmediterranee.org/wp-content
 /uploads/2026/04/Reguy-Bayle.jpg
CATEGORIES:Exposition 2025-2026
LOCATION:Place des Arts\, 10 place Voltaire\, NARBONNE\, 11100\, Occitanie\
 , France
X-APPLE-STRUCTURED-LOCATION;VALUE=URI;X-ADDRESS=10 place Voltaire\, NARBONN
 E\, 11100\, Occitanie\, France;X-APPLE-RADIUS=100;X-TITLE=Place des Arts:g
 eo:0,0
END:VEVENT
BEGIN:VTIMEZONE
TZID:Europe/Paris
X-LIC-LOCATION:Europe/Paris
BEGIN:DAYLIGHT
DTSTART:20260329T030000
TZOFFSETFROM:+0100
TZOFFSETTO:+0200
TZNAME:CEST
END:DAYLIGHT
END:VTIMEZONE
END:VCALENDAR