BEGIN:VCALENDAR
VERSION:2.0
PRODID:-//wp-events-plugin.com//7.2.3.1//EN
TZID:Europe/Zurich
X-WR-TIMEZONE:Europe/Zurich
BEGIN:VEVENT
UID:115@millepoetesenmediterranee.org
DTSTART;TZID=Europe/Paris:20240907T000000
DTEND;TZID=Europe/Paris:20241006T000000
DTSTAMP:20240903T100757Z
URL:https://millepoetesenmediterranee.org/events/regards-croises-expositio
 n-de-veronique-camilleri-quoirin-et-john-van-der-velden/
SUMMARY:Regards Croisés exposition de Véronique Camilleri-Quoirin et John
  Van Der Velden
DESCRIPTION:Vernissage : Regards croisés…\n\nVéronique Camilleri-Quoiri
 n et John Van Der Velden \n\nUn sentiment\, un fait de société\, l’ex
 pression d’une émotion… Du surréalisme au symbolisme\, Véronique Ca
 milleri-Quoirin et John Van Der Velden\, proposent\, aux spectateurs\, deu
 x visions croisées…\n\nLeurs mondes intérieurs dialoguent et s’inter
 pellent\, chacun d’eux nous raconte une histoire. Leurs différences pic
 turales\, la conjugaison de leurs palet tes\, l’éventail des sujets abo
 rdés est une richesse laissant place à tous les imaginaires…\n     
  
ATTACH;FMTTYPE=image/jpeg:https://millepoetesenmediterranee.org/wp-content
 /uploads/2024/09/Expo-Vero-John.jpg
CATEGORIES:Expositions 2024-2025
LOCATION:Place des Arts\, 10 place Voltaire\, NARBONNE\, 11100\, Occitanie\
 , France
X-APPLE-STRUCTURED-LOCATION;VALUE=URI;X-ADDRESS=10 place Voltaire\, NARBONN
 E\, 11100\, Occitanie\, France;X-APPLE-RADIUS=100;X-TITLE=Place des Arts:g
 eo:0,0
END:VEVENT
BEGIN:VTIMEZONE
TZID:Europe/Paris
X-LIC-LOCATION:Europe/Paris
BEGIN:DAYLIGHT
DTSTART:20240331T030000
TZOFFSETFROM:+0100
TZOFFSETTO:+0200
TZNAME:CEST
END:DAYLIGHT
END:VTIMEZONE
END:VCALENDAR