BEGIN:VCALENDAR
VERSION:2.0
PRODID:-//wp-events-plugin.com//7.2.3.1//EN
TZID:Europe/Zurich
X-WR-TIMEZONE:Europe/Zurich
BEGIN:VEVENT
UID:130@millepoetesenmediterranee.org
DTSTART;TZID=Europe/Paris:20241012T180000
DTEND;TZID=Europe/Paris:20241111T200000
DTSTAMP:20241022T094810Z
URL:https://millepoetesenmediterranee.org/events/promenade-dans-vos-paysag
 es-interieurs-exposition-de-christine-desplanque/
SUMMARY:Promenade dans vos paysages intérieurs exposition de Christine Des
 planque
DESCRIPTION:Christine Desplanque\nVernissage  de l'exposition « Promenade
  dans vos paysages intérieurs » le samedi 12 octobre à 18 h\nArtiste pe
 intre\, Christine Desplanque puise son inspiration dans des courants aussi
  variés que l’Impressionnisme\, l’Intuitisme et l’Art Résilience. 
 Elle fait partie des 60 artistes du mouvement Art résilience.\nTableaux l
 umineux\, colorés\, paysages réels ou oniriques son exposition « Promen
 ade dans vos paysages intérieurs » invite le spectateur à la flânerie 
 et la contemplation \; émotion\, spiritualité et poésie trouvent place 
 dans chacune de ses œuvres…\n\n\n\n\n\n\n\n  
ATTACH;FMTTYPE=image/jpeg:https://millepoetesenmediterranee.org/wp-content
 /uploads/2024/10/Christine-Desplanque.jpg
CATEGORIES:Expositions 2024-2025
LOCATION:Place des Arts\, 10 place Voltaire\, NARBONNE\, 11100\, Occitanie\
 , France
X-APPLE-STRUCTURED-LOCATION;VALUE=URI;X-ADDRESS=10 place Voltaire\, NARBONN
 E\, 11100\, Occitanie\, France;X-APPLE-RADIUS=100;X-TITLE=Place des Arts:g
 eo:0,0
END:VEVENT
BEGIN:VTIMEZONE
TZID:Europe/Paris
X-LIC-LOCATION:Europe/Paris
BEGIN:DAYLIGHT
DTSTART:20240331T030000
TZOFFSETFROM:+0100
TZOFFSETTO:+0200
TZNAME:CEST
END:DAYLIGHT
BEGIN:STANDARD
DTSTART:20241027T020000
TZOFFSETFROM:+0200
TZOFFSETTO:+0100
TZNAME:CET
END:STANDARD
END:VTIMEZONE
END:VCALENDAR