BEGIN:VCALENDAR
VERSION:2.0
PRODID:-//wp-events-plugin.com//7.2.3.1//EN
TZID:Europe/Zurich
X-WR-TIMEZONE:Europe/Zurich
BEGIN:VEVENT
UID:347@millepoetesenmediterranee.org
DTSTART;TZID=Europe/Paris:20260426T170000
DTEND;TZID=Europe/Paris:20260426T190000
DTSTAMP:20260415T201729Z
URL:https://millepoetesenmediterranee.org/events/poivre-et-sel-piment-roug
 e-concert-chansons-dhier-et-daujourdhui/
SUMMARY:Poivre\, et Sel & Piment Rouge\, concert « Chansons d’hier et d
 ’aujourd’hui »
DESCRIPTION:Poivre\, et Sel &amp\; Piment Rouge\, concert « Chansons d’
 hier et d’aujourd’hui » \nSouvenirs\, souvenirs\, le groupe Poivre\
 , et Sel &amp\; Piment Rouge\, vous invite à écouter et chanter un flori
 lège de chansons d’hier et d’aujourd’hui\, sous le signe de l’ami
 tié et d’une bonne humeur partagée. Un voyage musical à partager qui 
 ne manque pas de piquant…\n\nRéservation conseillée : 06 31 37 93 67
ATTACH;FMTTYPE=image/jpeg:https://millepoetesenmediterranee.org/wp-content
 /uploads/2026/04/Poivre-et-Sel.jpg
CATEGORIES:Concerts 2025-2026
LOCATION:La Place des Arts\, 10 Place Voltaire\, NARBONNE\, France\, 11100\
 , France
X-APPLE-STRUCTURED-LOCATION;VALUE=URI;X-ADDRESS=10 Place Voltaire\, NARBONN
 E\, France\, 11100\, France;X-APPLE-RADIUS=100;X-TITLE=La Place des Arts:g
 eo:0,0
END:VEVENT
BEGIN:VTIMEZONE
TZID:Europe/Paris
X-LIC-LOCATION:Europe/Paris
BEGIN:DAYLIGHT
DTSTART:20260329T030000
TZOFFSETFROM:+0100
TZOFFSETTO:+0200
TZNAME:CEST
END:DAYLIGHT
END:VTIMEZONE
END:VCALENDAR