BEGIN:VCALENDAR
VERSION:2.0
PRODID:-//wp-events-plugin.com//7.2.3.1//EN
TZID:Europe/Zurich
X-WR-TIMEZONE:Europe/Zurich
BEGIN:VEVENT
UID:341@millepoetesenmediterranee.org
DTSTART;TZID=Europe/Paris:20260327T203000
DTEND;TZID=Europe/Paris:20260327T220000
DTSTAMP:20260318T165826Z
URL:https://millepoetesenmediterranee.org/events/paroles-de-poetes-scene-o
 uverte-9/
SUMMARY:Paroles de Poètes\, scène ouverte…
DESCRIPTION:Paroles de Poétes\, scène ouverte…\nÀ la Place des Arts\, 
 chacun doit pouvoir trouver un espace d’expression !\n\nAlors\, une gui
 tare\, une mélodie au piano\, une chanson\, un écrit\, un poème…\, os
 ez venir vous exprimer dans une ambiance conviviable \; scène ouverte à
  tous !
ATTACH;FMTTYPE=image/jpeg:https://millepoetesenmediterranee.org/wp-content
 /uploads/2025/09/Scene-ouverte-2.jpg
CATEGORIES:Soirées Places des Arts 2025-2026
LOCATION:Place des Arts\, 10 place Voltaire\, NARBONNE\, 11100\, Occitanie\
 , France
X-APPLE-STRUCTURED-LOCATION;VALUE=URI;X-ADDRESS=10 place Voltaire\, NARBONN
 E\, 11100\, Occitanie\, France;X-APPLE-RADIUS=100;X-TITLE=Place des Arts:g
 eo:0,0
END:VEVENT
BEGIN:VTIMEZONE
TZID:Europe/Paris
X-LIC-LOCATION:Europe/Paris
BEGIN:STANDARD
DTSTART:20251026T020000
TZOFFSETFROM:+0200
TZOFFSETTO:+0100
TZNAME:CET
END:STANDARD
END:VTIMEZONE
END:VCALENDAR