BEGIN:VCALENDAR
VERSION:2.0
PRODID:-//wp-events-plugin.com//7.2.3.1//EN
TZID:Europe/Zurich
X-WR-TIMEZONE:Europe/Zurich
BEGIN:VEVENT
UID:348@millepoetesenmediterranee.org
DTSTART;TZID=Europe/Paris:20260501T203000
DTEND;TZID=Europe/Paris:20260501T223000
DTSTAMP:20260415T203550Z
URL:https://millepoetesenmediterranee.org/events/paroles-de-poetes-scene-o
 uverte-10/
SUMMARY:Paroles de Poètes\, scène ouverte…
DESCRIPTION:Paroles de Poètes\, scène ouverte… \nÀ la Place des Arts\
 , chacun doit pouvoir trouver un espace d’expression ! \nAlors\, une g
 uitare\, une mélodie au piano\, une chanson\, un écrit\, un poème…\, 
 osez venir vous exprimer dans une ambiance conviviale.\nScène ouverte à 
 tous !\nLibre participation 
ATTACH;FMTTYPE=image/jpeg:https://millepoetesenmediterranee.org/wp-content
 /uploads/2025/09/Scene-ouverte-2.jpg
CATEGORIES:Soirées Places des Arts 2025-2026
LOCATION:La Place des Arts\, 10 Place Voltaire\, NARBONNE\, France\, 11100\
 , France
X-APPLE-STRUCTURED-LOCATION;VALUE=URI;X-ADDRESS=10 Place Voltaire\, NARBONN
 E\, France\, 11100\, France;X-APPLE-RADIUS=100;X-TITLE=La Place des Arts:g
 eo:0,0
END:VEVENT
BEGIN:VTIMEZONE
TZID:Europe/Paris
X-LIC-LOCATION:Europe/Paris
BEGIN:DAYLIGHT
DTSTART:20260329T030000
TZOFFSETFROM:+0100
TZOFFSETTO:+0200
TZNAME:CEST
END:DAYLIGHT
END:VTIMEZONE
END:VCALENDAR