BEGIN:VCALENDAR
VERSION:2.0
PRODID:-//wp-events-plugin.com//7.2.3.1//EN
TZID:Europe/Zurich
X-WR-TIMEZONE:Europe/Zurich
BEGIN:VEVENT
UID:213@millepoetesenmediterranee.org
DTSTART;TZID=Europe/Paris;VALUE=DATE:20250528
DTEND;TZID=Europe/Paris;VALUE=DATE:20250701
DTSTAMP:20250525T081033Z
URL:https://millepoetesenmediterranee.org/events/olena-trofymova-leloquenc
 e-silencieuse-de-la-couleur/
SUMMARY:Olena Trofymova « L’éloquence silencieuse de la couleur »  
  
DESCRIPTION:« L’éloquence silencieuse de la couleur » \nPeintre d'o
 rigine ukrainienne\, Olena Trofymova déploie un univers pictural d’une 
 finesse saisissante. Dans la lignée des néoromantiques\, chacune de ses 
 œuvres est le miroir de son monde intérieur. Un monde peuplé d’émoti
 ons délicates\, de réminiscences colorées et de silences habités. La f
 éminité y est omniprésente\, non pas comme une posture\, mais comme une
  force douce\, une respiration profonde qui\, à fleur d’âme\, traverse
  la toile et fascine le spectateur !\n\nVernissage le 28 mai à 18 h
ATTACH;FMTTYPE=image/jpeg:https://millepoetesenmediterranee.org/wp-content
 /uploads/2025/05/Olena.jpg
CATEGORIES:Expositions 2024-2025
LOCATION:Place des Arts\, 10 place Voltaire\, NARBONNE\, 11100\, Occitanie\
 , France
X-APPLE-STRUCTURED-LOCATION;VALUE=URI;X-ADDRESS=10 place Voltaire\, NARBONN
 E\, 11100\, Occitanie\, France;X-APPLE-RADIUS=100;X-TITLE=Place des Arts:g
 eo:0,0
END:VEVENT
BEGIN:VTIMEZONE
TZID:Europe/Paris
X-LIC-LOCATION:Europe/Paris
BEGIN:DAYLIGHT
DTSTART:20250330T030000
TZOFFSETFROM:+0100
TZOFFSETTO:+0200
TZNAME:CEST
END:DAYLIGHT
END:VTIMEZONE
END:VCALENDAR