BEGIN:VCALENDAR
VERSION:2.0
PRODID:-//wp-events-plugin.com//7.2.3.1//EN
TZID:Europe/Zurich
X-WR-TIMEZONE:Europe/Zurich
BEGIN:VEVENT
UID:338@millepoetesenmediterranee.org
DTSTART;TZID=Europe/Paris:20260429T150000
DTEND;TZID=Europe/Paris:20260429T170000
DTSTAMP:20260318T162544Z
URL:https://millepoetesenmediterranee.org/events/mots-en-liberte-atelier-d
 ecriture-anime-par-sylviane-blineau-17/
SUMMARY:« Mots en liberté » atelier d’écriture animé par Sylviane 
 Blineau
DESCRIPTION:« Mots en liberté »\nAtelier d’écriture animé par Sylv
 iane Blineau  \nDans une ambiance conviviale\, laisser ses sentiments et
  son imaginaire glisser sur le papier\, jouer avec les mots et par le biai
 s de la lecture partager ses émotions...\n\nPrise de contact et inscripti
 ons : Sylviane Blineau : blineausy@yahoo.com
ATTACH;FMTTYPE=image/jpeg:https://millepoetesenmediterranee.org/wp-content
 /uploads/2025/12/image003.jpg
CATEGORIES:Ateliers d'écriture 2025-2026
LOCATION:Place des Arts\, 10 place Voltaire\, NARBONNE\, 11100\, Occitanie\
 , France
X-APPLE-STRUCTURED-LOCATION;VALUE=URI;X-ADDRESS=10 place Voltaire\, NARBONN
 E\, 11100\, Occitanie\, France;X-APPLE-RADIUS=100;X-TITLE=Place des Arts:g
 eo:0,0
END:VEVENT
BEGIN:VTIMEZONE
TZID:Europe/Paris
X-LIC-LOCATION:Europe/Paris
BEGIN:DAYLIGHT
DTSTART:20260329T030000
TZOFFSETFROM:+0100
TZOFFSETTO:+0200
TZNAME:CEST
END:DAYLIGHT
END:VTIMEZONE
END:VCALENDAR