BEGIN:VCALENDAR
VERSION:2.0
PRODID:-//wp-events-plugin.com//7.2.3.1//EN
TZID:Europe/Zurich
X-WR-TIMEZONE:Europe/Zurich
BEGIN:VEVENT
UID:231@millepoetesenmediterranee.org
DTSTART;TZID=Europe/Paris:20251008T150000
DTEND;TZID=Europe/Paris:20251008T170000
DTSTAMP:20250901T133013Z
URL:https://millepoetesenmediterranee.org/events/mots-en-liberte-atelier-d
 ecriture-21/
SUMMARY:"Mots en Liberté"  - Atelier d'Ecriture
DESCRIPTION:"Mots en Liberté" - Atelier d'Ecriture\n\nAnimé par Sylviane 
 Blineau\n\n \n\n* le nombre de places étant limité\, prise de contact e
 t inscription  auprès de Sylviane Blineau :\n\n06 75 51 48 16   ou bli
 neausy@yahoo.com\n\n 
ATTACH;FMTTYPE=image/jpeg:https://millepoetesenmediterranee.org/wp-content
 /uploads/2016/09/POUSSIERE-DOXY-1.webp
CATEGORIES:Ateliers d'écriture 2025-2026
LOCATION:Place des Arts\, 10 place Voltaire\, NARBONNE\, 11100\, Occitanie\
 , France
X-APPLE-STRUCTURED-LOCATION;VALUE=URI;X-ADDRESS=10 place Voltaire\, NARBONN
 E\, 11100\, Occitanie\, France;X-APPLE-RADIUS=100;X-TITLE=Place des Arts:g
 eo:0,0
END:VEVENT
BEGIN:VTIMEZONE
TZID:Europe/Paris
X-LIC-LOCATION:Europe/Paris
BEGIN:DAYLIGHT
DTSTART:20250330T030000
TZOFFSETFROM:+0100
TZOFFSETTO:+0200
TZNAME:CEST
END:DAYLIGHT
END:VTIMEZONE
END:VCALENDAR