BEGIN:VCALENDAR
VERSION:2.0
PRODID:-//wp-events-plugin.com//7.2.3.1//EN
TZID:Europe/Zurich
X-WR-TIMEZONE:Europe/Zurich
BEGIN:VEVENT
UID:325@millepoetesenmediterranee.org
DTSTART;TZID=Europe/Paris:20260308T170000
DTEND;TZID=Europe/Paris:20260308T190000
DTSTAMP:20260209T112414Z
URL:https://millepoetesenmediterranee.org/events/melys-en-concert/
SUMMARY:Mélys en concert
DESCRIPTION:Mélys en concert\nChanteuse-guitariste-compositrice Mélys pui
 se son texte dans les émotions et les sensations que le monde organique l
 ui fait ressentir. Naviguant entre l’anglais et l’espagnol\, sur des m
 élodies ciselées\, sa voix\, à la fois\, douce et rauque nous emmène v
 ers ses moments précieux où l’esprit divague et se laisse porter par l
 a mélancolie. Teintée de couleurs « Indie-Folk » avec parfois des so
 norités rock\, sa musique est un écrin musical propice à la rêverie \
 ; chacune de ses compositions est un instant suspendu qui suscite des émo
 tions à fleur d’âme.\n\nRéservation : 06 31 37 93 67  
ATTACH;FMTTYPE=image/jpeg:https://millepoetesenmediterranee.org/wp-content
 /uploads/2026/02/image009.jpg
CATEGORIES:Concerts 2025-2026
LOCATION:Place des Arts\, 10 place Voltaire\, NARBONNE\, 11100\, Occitanie\
 , France
X-APPLE-STRUCTURED-LOCATION;VALUE=URI;X-ADDRESS=10 place Voltaire\, NARBONN
 E\, 11100\, Occitanie\, France;X-APPLE-RADIUS=100;X-TITLE=Place des Arts:g
 eo:0,0
END:VEVENT
BEGIN:VTIMEZONE
TZID:Europe/Paris
X-LIC-LOCATION:Europe/Paris
BEGIN:STANDARD
DTSTART:20251026T020000
TZOFFSETFROM:+0200
TZOFFSETTO:+0100
TZNAME:CET
END:STANDARD
END:VTIMEZONE
END:VCALENDAR