BEGIN:VCALENDAR
VERSION:2.0
PRODID:-//wp-events-plugin.com//7.2.3.1//EN
TZID:Europe/Zurich
X-WR-TIMEZONE:Europe/Zurich
BEGIN:VEVENT
UID:314@millepoetesenmediterranee.org
DTSTART;TZID=Europe/Paris:20260213T170000
DTEND;TZID=Europe/Paris:20260213T183000
DTSTAMP:20260122T104818Z
URL:https://millepoetesenmediterranee.org/events/lydie-fuertes-concert-bar
 roca/
SUMMARY:Lydie Fuertes\, concert « Barroca »
DESCRIPTION:Lydie Fuertes\, concert « Barroca »\nFormée au Classique e
 t au Flamenco simultanément par Roland Dyens\, Vicente Pradal et Kiko Rui
 z\, devenue l’égérie de la célèbre marque de cordes de guitare « S
 avarez Strings\, Lydie Fuertes est une guitariste d’exception. Bien que 
 passionnée de flamenco son univers ne se résume pas à un seul registre.
  À travers « Barroca »\, elle réinvente « Les quatre saisons de Vi
 valdi »\, la musique baroque dialogue avec le flamenco\, le jazz et les 
 musiques du monde. Lydie Fuertes en concert à Narbonne\, un rendez-vous i
 ncontournable pour tous les mélomanes amoureux de la guitare !\n\nRéser
 vation : 06 31 37 93 67 
ATTACH;FMTTYPE=image/jpeg:https://millepoetesenmediterranee.org/wp-content
 /uploads/2026/01/Lydie-Fuertes.jpg
CATEGORIES:Concerts 2025-2026
LOCATION:place des arts\, 10 Place Voltaire\, NARBONNE\, France\, 11100\, F
 rance
X-APPLE-STRUCTURED-LOCATION;VALUE=URI;X-ADDRESS=10 Place Voltaire\, NARBONN
 E\, France\, 11100\, France;X-APPLE-RADIUS=100;X-TITLE=place des arts:geo:
 0,0
END:VEVENT
BEGIN:VTIMEZONE
TZID:Europe/Paris
X-LIC-LOCATION:Europe/Paris
BEGIN:STANDARD
DTSTART:20251026T020000
TZOFFSETFROM:+0200
TZOFFSETTO:+0100
TZNAME:CET
END:STANDARD
END:VTIMEZONE
END:VCALENDAR