BEGIN:VCALENDAR
VERSION:2.0
PRODID:-//wp-events-plugin.com//7.2.3.1//EN
TZID:Europe/Zurich
X-WR-TIMEZONE:Europe/Zurich
BEGIN:VEVENT
UID:334@millepoetesenmediterranee.org
DTSTART;TZID=Europe/Paris:20260405T170000
DTEND;TZID=Europe/Paris:20260405T190000
DTSTAMP:20260318T162229Z
URL:https://millepoetesenmediterranee.org/events/lucie-folch-en-concert/
SUMMARY:Lucie Folch\, en concert 
DESCRIPTION:« Lucie Folch\, en concert »\nAuteur compositrice\, Lucie F
 olch compose des mélodies prégnantes qui caressent autant qu’elles bou
 sculent. Ainsi\, elle s’empare du folk pour exprimer sa sensibilité pro
 fonde\, et interroger la vie avec une rare élégance. Chacune de ses chan
 sons est un petit bijou\, le timbre harmonieux de sa voix nous en dit tout
  le précieux \; Lucie Folch\, une artiste accomplie à découvrir absolum
 ent !\n\nRéservation : 06 31 37 93 67\n\nhttps://youtu.be/0vm7QTtiJCI?si=
 FWcJZZ6qOSWn3--Y
ATTACH;FMTTYPE=image/jpeg:https://millepoetesenmediterranee.org/wp-content
 /uploads/2026/03/Lucie-Folch.jpg
CATEGORIES:Concerts 2025-2026
LOCATION:Place des Arts\, 10 place Voltaire\, NARBONNE\, 11100\, Occitanie\
 , France
X-APPLE-STRUCTURED-LOCATION;VALUE=URI;X-ADDRESS=10 place Voltaire\, NARBONN
 E\, 11100\, Occitanie\, France;X-APPLE-RADIUS=100;X-TITLE=Place des Arts:g
 eo:0,0
END:VEVENT
BEGIN:VTIMEZONE
TZID:Europe/Paris
X-LIC-LOCATION:Europe/Paris
BEGIN:DAYLIGHT
DTSTART:20260329T030000
TZOFFSETFROM:+0100
TZOFFSETTO:+0200
TZNAME:CEST
END:DAYLIGHT
END:VTIMEZONE
END:VCALENDAR