BEGIN:VCALENDAR
VERSION:2.0
PRODID:-//wp-events-plugin.com//7.2.3.1//EN
TZID:Europe/Zurich
X-WR-TIMEZONE:Europe/Zurich
BEGIN:VEVENT
UID:315@millepoetesenmediterranee.org
DTSTART;TZID=Europe/Paris:20260220T203000
DTEND;TZID=Europe/Paris:20260220T223000
DTSTAMP:20260122T105430Z
URL:https://millepoetesenmediterranee.org/events/le-duo-franjoe-sur-scene/
SUMMARY:Le Duo Franjoe\, sur scène
DESCRIPTION:Le Duo Franjoe\, sur scène \nFranjoe\, c’est François Gran
 ge (acteur et liseur public) et Joël Bonnet (multi musicien et chanteur) 
 un duo détonant. Entre textes\, coup de gueules\, racontars\, musique et 
 chansons\, décapantes ou tendres mais toujours interpellantes\, dans une 
 mise en scène sans artifice et au plus près du public\, leur prestation 
 est une véritable performance théâtrale et musicale \; un grand moment
  de bonne humeur et de partage !\n\nLibre participation
ATTACH;FMTTYPE=image/jpeg:https://millepoetesenmediterranee.org/wp-content
 /uploads/2026/01/Franjoe-MP-New.jpg
CATEGORIES:Soirées Places des Arts 2025-2026
LOCATION:La Place des Arts\, 10 Place Voltaire\, NARBONNE\, France\, 11100\
 , France
X-APPLE-STRUCTURED-LOCATION;VALUE=URI;X-ADDRESS=10 Place Voltaire\, NARBONN
 E\, France\, 11100\, France;X-APPLE-RADIUS=100;X-TITLE=La Place des Arts:g
 eo:0,0
END:VEVENT
BEGIN:VTIMEZONE
TZID:Europe/Paris
X-LIC-LOCATION:Europe/Paris
BEGIN:STANDARD
DTSTART:20251026T020000
TZOFFSETFROM:+0200
TZOFFSETTO:+0100
TZNAME:CET
END:STANDARD
END:VTIMEZONE
END:VCALENDAR