BEGIN:VCALENDAR
VERSION:2.0
PRODID:-//wp-events-plugin.com//7.2.3.1//EN
TZID:Europe/Zurich
X-WR-TIMEZONE:Europe/Zurich
BEGIN:VEVENT
UID:280@millepoetesenmediterranee.org
DTSTART;TZID=Europe/Paris:20260208T170000
DTEND;TZID=Europe/Paris:20260208T190000
DTSTAMP:20260114T094811Z
URL:https://millepoetesenmediterranee.org/events/jean-paul-bonfils-en-conc
 ert-chanteur-utile/
SUMMARY:Jean-Paul Bonfils\,  en concert « Chanteur Utile »
DESCRIPTION:Jean-Paul Bonfils\,  en concert « Chanteur Utile »\n« Ch
 anteur Utile et conteur de l'impossible »\, Jean-Paul Bonfils : un fou
  pas furieux qui allie swing et textes décapants. Auteur\, compositeur\, 
 ses chansons sont des bonbons fourrés de jeux de mots subtils\, mais l’
 humour n’est pas\, chez lui\, une simple volonté de nous faire rire\, c
 ’est aussi une façon d’appuyer sur les travers de notre société\, s
 i j’osais\, je dirais que du sang de Brassens coule dans ses veines. Uni
 vers atypique\, unique où tout peut arriver\, l’artiste nous convie à 
 un spectacle thermodynamique\, nietzschéen\, ionesquien… où\, la bonne
  humeur est communicative !
ATTACH;FMTTYPE=image/jpeg:https://millepoetesenmediterranee.org/wp-content
 /uploads/2026/01/jean-Paul-Bonfils.jpg
CATEGORIES:Concerts 2025-2026
LOCATION:Place des Arts\, 10 place Voltaire\, NARBONNE\, 11100\, Occitanie\
 , France
X-APPLE-STRUCTURED-LOCATION;VALUE=URI;X-ADDRESS=10 place Voltaire\, NARBONN
 E\, 11100\, Occitanie\, France;X-APPLE-RADIUS=100;X-TITLE=Place des Arts:g
 eo:0,0
END:VEVENT
BEGIN:VTIMEZONE
TZID:Europe/Paris
X-LIC-LOCATION:Europe/Paris
BEGIN:STANDARD
DTSTART:20251026T020000
TZOFFSETFROM:+0200
TZOFFSETTO:+0100
TZNAME:CET
END:STANDARD
END:VTIMEZONE
END:VCALENDAR