BEGIN:VCALENDAR
VERSION:2.0
PRODID:-//wp-events-plugin.com//7.2.3.1//EN
TZID:Europe/Zurich
X-WR-TIMEZONE:Europe/Zurich
BEGIN:VEVENT
UID:328@millepoetesenmediterranee.org
DTSTART;TZID=Europe/Paris:20260315T170000
DTEND;TZID=Europe/Paris:20260315T190000
DTSTAMP:20260318T154914Z
URL:https://millepoetesenmediterranee.org/events/jean-louis-cadore-brel-co
 nfidentiel-2/
SUMMARY:Jean-Louis Cadoré « Brel\, confidentiel »
DESCRIPTION:Jean-Louis Cadoré « Brel\, confidentiel » \nAccompagné a
 u piano par Alain Aouat\, Jean-Louis Cadoré\, avec passion et respect\, v
 ient nous offrir un florilège de plus belles chansons de Jacques Brel. Ch
 acune de ses interprétations de ce Grand Monsieur de la chanson français
 e est un pur moment d’émotion à partager sans modération. Également 
 auteur compositeur\, en fin de concert\, l’artiste nous fera découvrir 
 quelques de ses compositions pour notre plus grand plaisir.\n\nRéservatio
 n : 06 31 37 93 67\n\n 
ATTACH;FMTTYPE=image/jpeg:https://millepoetesenmediterranee.org/wp-content
 /uploads/2026/03/Brel-confidentiel.jpg
CATEGORIES:Concerts 2025-2026
LOCATION:Place des Arts\, 10 place Voltaire\, NARBONNE\, 11100\, Occitanie\
 , France
X-APPLE-STRUCTURED-LOCATION;VALUE=URI;X-ADDRESS=10 place Voltaire\, NARBONN
 E\, 11100\, Occitanie\, France;X-APPLE-RADIUS=100;X-TITLE=Place des Arts:g
 eo:0,0
END:VEVENT
BEGIN:VTIMEZONE
TZID:Europe/Paris
X-LIC-LOCATION:Europe/Paris
BEGIN:STANDARD
DTSTART:20251026T020000
TZOFFSETFROM:+0200
TZOFFSETTO:+0100
TZNAME:CET
END:STANDARD
END:VTIMEZONE
END:VCALENDAR