BEGIN:VCALENDAR
VERSION:2.0
PRODID:-//wp-events-plugin.com//7.2.3.1//EN
TZID:Europe/Zurich
X-WR-TIMEZONE:Europe/Zurich
BEGIN:VEVENT
UID:343@millepoetesenmediterranee.org
DTSTART;TZID=Europe/Paris:20260327T180000
DTEND;TZID=Europe/Paris:20260421T180000
DTSTAMP:20260325T095111Z
URL:https://millepoetesenmediterranee.org/events/exposition-vero-qorev-tur
 bulence/
SUMMARY:Exposition Vero Qorev "Turbulence"
DESCRIPTION:Véro Qorev : « Turbulence »« Turbulence »\, les pinceaux d
 e Véro Qorev vibrent\, tourbillonnent\, s’envolent sur l’espace toile
 … De l’abstrait au néo-figuratif\, l’artiste présente un florilèg
 e de ses techniques et diverses inspirations \; pour le plaisir des yeux\,
  un beau voyage en des pays imaginaires…\nVernissage le vendredi 27 mars
  à 18 heuresExposition du 27 mars au 21 avril
ATTACH;FMTTYPE=image/jpeg:https://millepoetesenmediterranee.org/wp-content
 /uploads/2026/03/Vero-Qorev-mars-2026.jpg
CATEGORIES:Exposition 2025-2026
LOCATION:Place des Arts\, 10 place Voltaire\, NARBONNE\, 11100\, Occitanie\
 , France
X-APPLE-STRUCTURED-LOCATION;VALUE=URI;X-ADDRESS=10 place Voltaire\, NARBONN
 E\, 11100\, Occitanie\, France;X-APPLE-RADIUS=100;X-TITLE=Place des Arts:g
 eo:0,0
END:VEVENT
BEGIN:VTIMEZONE
TZID:Europe/Paris
X-LIC-LOCATION:Europe/Paris
BEGIN:STANDARD
DTSTART:20251026T020000
TZOFFSETFROM:+0200
TZOFFSETTO:+0100
TZNAME:CET
END:STANDARD
BEGIN:DAYLIGHT
DTSTART:20260329T030000
TZOFFSETFROM:+0100
TZOFFSETTO:+0200
TZNAME:CEST
END:DAYLIGHT
END:VTIMEZONE
END:VCALENDAR