BEGIN:VCALENDAR
VERSION:2.0
PRODID:-//wp-events-plugin.com//7.2.3.1//EN
TZID:Europe/Zurich
X-WR-TIMEZONE:Europe/Zurich
BEGIN:VEVENT
UID:191@millepoetesenmediterranee.org
DTSTART;TZID=Europe/Paris:20250329T000000
DTEND;TZID=Europe/Paris:20250421T000000
DTSTAMP:20250322T170422Z
URL:https://millepoetesenmediterranee.org/events/exposition-de-roland-rebu
 ffy-empreintes/
SUMMARY:Exposition de Roland Rebuffy "Empreintes"
DESCRIPTION:Samedi 29 mars 18 heures Vernissage de l'exposition de Roland 
 Rebuffy \n « Empreintes » \nL’enfant dessinait ses rêves sur le sa
 ble\, traces éphémères que parfois\, soudainement\, la vague venait eff
 acer. Devenu adulte\, l’artiste se souvient avec nostalgie du temps pass
 é et s’émerveille. « Empreintes »\, est un chant sublime\, parfois
  tragique\, aux souvenirs d’enfance\, à la mer\, aux traces dans le sab
 le\, témoins d’une vie qui\, comme le sable\, glisse entre les doigts. 
 (Claire Courdil)\n      \n&nbsp\;
ATTACH;FMTTYPE=image/jpeg:https://millepoetesenmediterranee.org/wp-content
 /uploads/2025/03/Rebuffy-5.jpg
CATEGORIES:Expositions 2024-2025
LOCATION:Place des Arts\, 10 place Voltaire\, NARBONNE\, 11100\, Occitanie\
 , France
X-APPLE-STRUCTURED-LOCATION;VALUE=URI;X-ADDRESS=10 place Voltaire\, NARBONN
 E\, 11100\, Occitanie\, France;X-APPLE-RADIUS=100;X-TITLE=Place des Arts:g
 eo:0,0
END:VEVENT
BEGIN:VTIMEZONE
TZID:Europe/Paris
X-LIC-LOCATION:Europe/Paris
BEGIN:STANDARD
DTSTART:20241027T020000
TZOFFSETFROM:+0200
TZOFFSETTO:+0100
TZNAME:CET
END:STANDARD
BEGIN:DAYLIGHT
DTSTART:20250330T030000
TZOFFSETFROM:+0100
TZOFFSETTO:+0200
TZNAME:CEST
END:DAYLIGHT
END:VTIMEZONE
END:VCALENDAR