BEGIN:VCALENDAR
VERSION:2.0
PRODID:-//wp-events-plugin.com//7.2.3.1//EN
TZID:Europe/Zurich
X-WR-TIMEZONE:Europe/Zurich
BEGIN:VEVENT
UID:179@millepoetesenmediterranee.org
DTSTART;TZID=Europe/Paris:20250215T000000
DTEND;TZID=Europe/Paris:20250317T000000
DTSTAMP:20250210T182655Z
URL:https://millepoetesenmediterranee.org/events/exposition-de-anne-lyse-b
 oue-mandil-influences/
SUMMARY:Exposition de Anne-Lyse Boue-Mandil "Influences"
DESCRIPTION:Samedi 15 févier à 18 heures vernissage : Anne-Lyse Boue-Man
 dil\n\n« Influences » \n\nAux frontières du pointillisme\, Anne-Lyse
  Boue-Mandil présente des œuvres dont le visuel est proche de la « mos
 aïque ». Association des couleurs\, régularité des formes\, motifs pr
 oduisant des sensations de mouvements…\, fascinantes\, ses toiles sont v
 ivantes \; le spectateur\, comme on goûte un bon vin\, en déguste avec 
 les yeux toute l’harmonie jusqu’à l’ivresse…\n\n&nbsp\;\n\n  
ATTACH;FMTTYPE=image/jpeg:https://millepoetesenmediterranee.org/wp-content
 /uploads/2025/02/Alybi-art.jpg
CATEGORIES:Expositions 2024-2025
LOCATION:Place des Arts\, 10 place Voltaire\, NARBONNE\, 11100\, Occitanie\
 , France
X-APPLE-STRUCTURED-LOCATION;VALUE=URI;X-ADDRESS=10 place Voltaire\, NARBONN
 E\, 11100\, Occitanie\, France;X-APPLE-RADIUS=100;X-TITLE=Place des Arts:g
 eo:0,0
END:VEVENT
BEGIN:VTIMEZONE
TZID:Europe/Paris
X-LIC-LOCATION:Europe/Paris
BEGIN:STANDARD
DTSTART:20241027T020000
TZOFFSETFROM:+0200
TZOFFSETTO:+0100
TZNAME:CET
END:STANDARD
END:VTIMEZONE
END:VCALENDAR