BEGIN:VCALENDAR
VERSION:2.0
PRODID:-//wp-events-plugin.com//7.2.3.1//EN
TZID:Europe/Zurich
X-WR-TIMEZONE:Europe/Zurich
BEGIN:VEVENT
UID:333@millepoetesenmediterranee.org
DTSTART;TZID=Europe/Paris:20260329T170000
DTEND;TZID=Europe/Paris:20260329T190000
DTSTAMP:20260318T171507Z
URL:https://millepoetesenmediterranee.org/events/eric-frasiak-en-concert/
SUMMARY:Éric Frasiak\, en concert
DESCRIPTION:Éric Frasiak accompagné de Benoit Dangien au piano \nÉric F
 rasiak est un chasseur-cueilleur d’émotions\, les mots de ses chansons 
 sont signifiants\, rebelles et sublimés par une musicalité pour lui esse
 ntielle. Ainsi\, chacun de ses concerts est un chouette voyage où on pass
 e de l’amour à l’humour\, de la poésie à la colère\, de la révolt
 e à la fraternité... Bouleversé par ses mélodies et sa poésie rebelle
  \; on en ressort plus humain !\n\nRéservation : 06 31 37 93 67\n\nhttp
 s://youtu.be/yIHkS3H3asQ?si=fLEEhnLCTI7FYgwq
ATTACH;FMTTYPE=image/jpeg:https://millepoetesenmediterranee.org/wp-content
 /uploads/2026/03/Eric-Frasiak.jpg
CATEGORIES:Concerts 2025-2026
LOCATION:Place des Arts\, 10 place Voltaire\, NARBONNE\, 11100\, Occitanie\
 , France
X-APPLE-STRUCTURED-LOCATION;VALUE=URI;X-ADDRESS=10 place Voltaire\, NARBONN
 E\, 11100\, Occitanie\, France;X-APPLE-RADIUS=100;X-TITLE=Place des Arts:g
 eo:0,0
END:VEVENT
BEGIN:VTIMEZONE
TZID:Europe/Paris
X-LIC-LOCATION:Europe/Paris
BEGIN:DAYLIGHT
DTSTART:20260329T030000
TZOFFSETFROM:+0100
TZOFFSETTO:+0200
TZNAME:CEST
END:DAYLIGHT
END:VTIMEZONE
END:VCALENDAR