BEGIN:VCALENDAR
VERSION:2.0
PRODID:-//wp-events-plugin.com//7.2.3.1//EN
TZID:Europe/Zurich
X-WR-TIMEZONE:Europe/Zurich
BEGIN:VEVENT
UID:316@millepoetesenmediterranee.org
DTSTART;TZID=Europe/Paris:20260222T170000
DTEND;TZID=Europe/Paris:20260222T190000
DTSTAMP:20260123T132122Z
URL:https://millepoetesenmediterranee.org/events/dynasora-en-concert/
SUMMARY:« Dynasora\, en concert »
DESCRIPTION:« Dynasora\, en concert » \nDynasora vous ouvre les portes
  de sa chambre aux trésors. Seule en scène\, elle crée un concert-spect
 acle inspiré de l’esprit dadaïste où cohabitent piano\, accordéon et
  récits singuliers. Entre les influences de Bonnie Banane\, Brigitte Font
 aine et William Sheller\, Dynasora donne voix aux invisibles. En se vouant
  aux marginales\, aux femmes canon\, aux dinosaures et à tout ce qui dis
 parait\, elle invente des chansons sensibles et bouillantes \; une poési
 e singulière et percutante.\n\nRéservation : 06 31 37 93 67
ATTACH;FMTTYPE=image/jpeg:https://millepoetesenmediterranee.org/wp-content
 /uploads/2026/01/Dinasora.jpg
CATEGORIES:Concerts 2025-2026
LOCATION:Place des Arts\, 10 place Voltaire\, NARBONNE\, 11100\, Occitanie\
 , France
X-APPLE-STRUCTURED-LOCATION;VALUE=URI;X-ADDRESS=10 place Voltaire\, NARBONN
 E\, 11100\, Occitanie\, France;X-APPLE-RADIUS=100;X-TITLE=Place des Arts:g
 eo:0,0
END:VEVENT
BEGIN:VTIMEZONE
TZID:Europe/Paris
X-LIC-LOCATION:Europe/Paris
BEGIN:STANDARD
DTSTART:20251026T020000
TZOFFSETFROM:+0200
TZOFFSETTO:+0100
TZNAME:CET
END:STANDARD
END:VTIMEZONE
END:VCALENDAR