BEGIN:VCALENDAR
VERSION:2.0
PRODID:-//wp-events-plugin.com//7.2.3.1//EN
TZID:Europe/Zurich
X-WR-TIMEZONE:Europe/Zurich
BEGIN:VEVENT
UID:279@millepoetesenmediterranee.org
DTSTART;TZID=Europe/Paris:20260206T203000
DTEND;TZID=Europe/Paris:20260206T220000
DTSTAMP:20260114T094309Z
URL:https://millepoetesenmediterranee.org/events/didier-mirouze-la-fleur-d
 u-volcan/
SUMMARY:Didier Mirouze « La fleur du volcan » 
DESCRIPTION:Didier Mirouze « La fleur du volcan » \nL’amour trouve t
 oujours comment s’exprimer. Ainsi que l’écrivait Alexandre Soljenitsy
 ne\, « la qualité essentielle de la forme d’une œuvre\, c’est sa 
 nécessité. » Sans elle\, sans cet influx nécessaire\, sans cette urge
 nce à restituer poétiquement ce que dictent les sentiments\, il n’est 
 ni vérité ni universalité. Pour Didier Mirouze\, l’érotisme est une 
 voix divine pour célébrer durablement l’union de deux êtres.\nAvec so
 n recueil « La fleur du volcan »\, le poète\, à fleur d’âme\, mag
 nifie les émotions du corps et de l’esprit et offre au lecteur un véri
 table chant d’amour !\n\nDédicace et lectures\n\nLibre participation
ATTACH;FMTTYPE=image/jpeg:https://millepoetesenmediterranee.org/wp-content
 /uploads/2026/01/Didier-Mirouze.jpg
CATEGORIES:Soirées Places des Arts 2025-2026
LOCATION:Place des Arts\, 10 place Voltaire\, NARBONNE\, 11100\, Occitanie\
 , France
X-APPLE-STRUCTURED-LOCATION;VALUE=URI;X-ADDRESS=10 place Voltaire\, NARBONN
 E\, 11100\, Occitanie\, France;X-APPLE-RADIUS=100;X-TITLE=Place des Arts:g
 eo:0,0
END:VEVENT
BEGIN:VTIMEZONE
TZID:Europe/Paris
X-LIC-LOCATION:Europe/Paris
BEGIN:STANDARD
DTSTART:20251026T020000
TZOFFSETFROM:+0200
TZOFFSETTO:+0100
TZNAME:CET
END:STANDARD
END:VTIMEZONE
END:VCALENDAR