BEGIN:VCALENDAR
VERSION:2.0
PRODID:-//wp-events-plugin.com//7.2.3.1//EN
TZID:Europe/Zurich
X-WR-TIMEZONE:Europe/Zurich
BEGIN:VEVENT
UID:317@millepoetesenmediterranee.org
DTSTART;TZID=Europe/Paris:20260226T203000
DTEND;TZID=Europe/Paris:20260226T223000
DTSTAMP:20260123T132449Z
URL:https://millepoetesenmediterranee.org/events/dans-le-cadre-de-la-quinz
 aine-des-langues-regionales-en-occitanie-joanda-concert-1000-ans/
SUMMARY:Dans le cadre de la quinzaine des langues régionales en Occitanie 
    Joanda\, « concert 1000 ans »
DESCRIPTION:Dans le cadre de la quinzaine des langues régionales en Occita
 nie\nJoanda\, « concert 1000 ans » \nAccompagné par David Tobéna ma
 estro de la guitare andalouse et Jean-Michel Pélegrin à l'accordéon (co
 nservatoire Narbonne)\, Joanda -joueur de sistre et chanteur- nous invite 
 dans un concert acoustique (en occitan et français) à découvrir son al
 bum « 1000 ans ». Évocation d’une terre occitane de caractère\, à
  travers des textes ciselés et dans une ambiance pop\, chacune des chanso
 ns de Joanda fait rayonner l'Occitanie\, en cela il est\, aujourd’hui\, 
 l’ambassadeur linguistique et culturel de toute une région !\n\nRéser
 vation : 06 31 37 93 67
ATTACH;FMTTYPE=image/jpeg:https://millepoetesenmediterranee.org/wp-content
 /uploads/2026/01/Joanda.jpg
CATEGORIES:Concerts 2025-2026
LOCATION:La Place des Arts\, 10 Place Voltaire\, NARBONNE\, France\, 11100\
 , France
X-APPLE-STRUCTURED-LOCATION;VALUE=URI;X-ADDRESS=10 Place Voltaire\, NARBONN
 E\, France\, 11100\, France;X-APPLE-RADIUS=100;X-TITLE=La Place des Arts:g
 eo:0,0
END:VEVENT
BEGIN:VTIMEZONE
TZID:Europe/Paris
X-LIC-LOCATION:Europe/Paris
BEGIN:STANDARD
DTSTART:20251026T020000
TZOFFSETFROM:+0200
TZOFFSETTO:+0100
TZNAME:CET
END:STANDARD
END:VTIMEZONE
END:VCALENDAR