BEGIN:VCALENDAR
VERSION:2.0
PRODID:-//wp-events-plugin.com//7.2.3.1//EN
TZID:Europe/Zurich
X-WR-TIMEZONE:Europe/Zurich
BEGIN:VEVENT
UID:324@millepoetesenmediterranee.org
DTSTART;TZID=Europe/Paris:20260306T203000
DTEND;TZID=Europe/Paris:20260306T220000
DTSTAMP:20260209T111534Z
URL:https://millepoetesenmediterranee.org/events/conference-portrait-de-13
 -aviatrices-representatives-de-laviation-francaise-de-michel-arquie/
SUMMARY:Conférence "Portrait de 13 aviatrices représentatives de l'aviati
 on française" de Michel Arquié
DESCRIPTION:Conférence de Michel Arquié « Portrait de 13 aviatrices repr
 ésentatives de l'aviation française »\nDès le début du XXème siècle
 \, l'aviation\, cette technologie nouvelle\, répond à un fort besoin d'
 émancipation individuelle et collective\, d'engagement politique et human
 itaire\, dans laquelle s'inscrivent\, très vite\, l’anticonformisme et 
 les légitimes revendications féministes\, d’égalité de droits et de 
 devoirs. Michel Arquié nous présente le portrait de 13 aviatrices\, repr
 ésentatives de l'histoire de l’aviation française\, dans son unité et
  sa diversité.\n\nLibre participation
ATTACH;FMTTYPE=image/jpeg:https://millepoetesenmediterranee.org/wp-content
 /uploads/2026/02/Affiche-Michel-Arquie-4.jpg
CATEGORIES:Soirées Places des Arts 2025-2026
LOCATION:Place des Arts\, 10 place Voltaire\, NARBONNE\, 11100\, Occitanie\
 , France
X-APPLE-STRUCTURED-LOCATION;VALUE=URI;X-ADDRESS=10 place Voltaire\, NARBONN
 E\, 11100\, Occitanie\, France;X-APPLE-RADIUS=100;X-TITLE=Place des Arts:g
 eo:0,0
END:VEVENT
BEGIN:VTIMEZONE
TZID:Europe/Paris
X-LIC-LOCATION:Europe/Paris
BEGIN:STANDARD
DTSTART:20251026T020000
TZOFFSETFROM:+0200
TZOFFSETTO:+0100
TZNAME:CET
END:STANDARD
END:VTIMEZONE
END:VCALENDAR