BEGIN:VCALENDAR
VERSION:2.0
PRODID:-//wp-events-plugin.com//7.2.3.1//EN
TZID:Europe/Zurich
X-WR-TIMEZONE:Europe/Zurich
BEGIN:VEVENT
UID:345@millepoetesenmediterranee.org
DTSTART;TZID=Europe/Paris:20260419T170000
DTEND;TZID=Europe/Paris:20260419T190000
DTSTAMP:20260403T070721Z
URL:https://millepoetesenmediterranee.org/events/chez-reggiani-joel-allain
 -et-georges-cabaret/
SUMMARY:« Chez Reggiani » Joël Allain et Georges Cabaret
DESCRIPTION:Joël Allain et Georges Cabaret « Chez Reggiani » \nJoël 
 Allain est un amoureux de la belle chanson française. Puissante\, riche d
 ’intonations et porteuse d’émotions\, sa voix nous en restitue toute 
 la profondeur. Respectueuses\, ses interprétations emportent les spectate
 urs au pays des plus grands auteurs et nous donnent l’envie folle de cha
 nter. Aujourd’hui\, sur des arrangements ciselés\, fabuleux de Georges 
 Cabaret\, il rend un vibrant hommage à Monsieur Serge Réggiani. Conjugai
 son des talents \; une invitation à redécouvrir un florilège des plus 
 belles œuvres de ce Grand Monsieur de la chanson française !\n\nRéserva
 tion : 06 31 37 93 67
ATTACH;FMTTYPE=image/jpeg:https://millepoetesenmediterranee.org/wp-content
 /uploads/2026/04/Joel-Allain-Georges-Cabaret.jpg
CATEGORIES:Concerts 2025-2026
LOCATION:Place des Arts\, 10 place Voltaire\, NARBONNE\, 11100\, Occitanie\
 , France
X-APPLE-STRUCTURED-LOCATION;VALUE=URI;X-ADDRESS=10 place Voltaire\, NARBONN
 E\, 11100\, Occitanie\, France;X-APPLE-RADIUS=100;X-TITLE=Place des Arts:g
 eo:0,0
END:VEVENT
BEGIN:VTIMEZONE
TZID:Europe/Paris
X-LIC-LOCATION:Europe/Paris
BEGIN:DAYLIGHT
DTSTART:20260329T030000
TZOFFSETFROM:+0100
TZOFFSETTO:+0200
TZNAME:CEST
END:DAYLIGHT
END:VTIMEZONE
END:VCALENDAR