BEGIN:VCALENDAR
VERSION:2.0
PRODID:-//wp-events-plugin.com//7.2.3.1//EN
TZID:Europe/Zurich
X-WR-TIMEZONE:Europe/Zurich
BEGIN:VEVENT
UID:322@millepoetesenmediterranee.org
DTSTART;TZID=Europe/Paris:20260227T203000
DTEND;TZID=Europe/Paris:20260227T220000
DTSTAMP:20260123T142451Z
URL:https://millepoetesenmediterranee.org/events/carte-blanche-a-rose-blin
 -mioch-femmes-rebelles-doc/
SUMMARY:Carte Blanche à Rose Blin-Mioch : « Femmes rebelles d’Oc »
DESCRIPTION:Carte Blanche à Rose Blin-Mioch « Femmes rebelles d’Oc »
 \nDocteure en langues Romanes spécialité Occitan\, chercheuse en civilis
 ation occitane à l’université Paul-Valéry Montpellier III\, ancienne 
 journaliste à « La Marseillaise »\, aujourd’hui à la retraite\, Ro
 se Blin-Mioch nous emmène sur les traces des femmes rebelles qui ont véc
 u au XIXe siècle ou au début du XXe siècle\, dans cet espace du sud d
 e la France où l’on parlait la langue d’Oc. Inconnues ou peu connues\
 , l’auteure\, nous conte l’influence et la vie passionnante de ces fem
 mes exceptionnelles hantant les coulisses de l’histoire…\n\nDédicaces
 \n\nLibre participation\n\n&nbsp\;
ATTACH;FMTTYPE=image/jpeg:https://millepoetesenmediterranee.org/wp-content
 /uploads/2026/01/Femmes-rebelles-1.png
CATEGORIES:Soirées Places des Arts 2025-2026
LOCATION:La Place des Arts\, 10 Place Voltaire\, NARBONNE\, France\, 11100\
 , France
X-APPLE-STRUCTURED-LOCATION;VALUE=URI;X-ADDRESS=10 Place Voltaire\, NARBONN
 E\, France\, 11100\, France;X-APPLE-RADIUS=100;X-TITLE=La Place des Arts:g
 eo:0,0
END:VEVENT
BEGIN:VTIMEZONE
TZID:Europe/Paris
X-LIC-LOCATION:Europe/Paris
BEGIN:STANDARD
DTSTART:20251026T020000
TZOFFSETFROM:+0200
TZOFFSETTO:+0100
TZNAME:CET
END:STANDARD
END:VTIMEZONE
END:VCALENDAR