BEGIN:VCALENDAR
VERSION:2.0
PRODID:-//wp-events-plugin.com//7.2.3.1//EN
TZID:Europe/Zurich
X-WR-TIMEZONE:Europe/Zurich
BEGIN:VEVENT
UID:342@millepoetesenmediterranee.org
DTSTART;TZID=Europe/Paris:20260403T203000
DTEND;TZID=Europe/Paris:20260403T223000
DTSTAMP:20260330T093349Z
URL:https://millepoetesenmediterranee.org/events/carte-blanche-a-latifa-mh
 aouar/
SUMMARY:Carte blanche à Latifa Mhaouar
DESCRIPTION:Carte blanche à Latifa Mhaouar\n(Poésie\, musique et rap…)
  \nD'origine marocaine et narbonnaise d'adoption depuis son plus jeune â
 ge\, ville à laquelle elle est très attachée\, tout en gardant son amou
 r pour son Maroc natal\, Latifa Mhaouar est une poétesse engagée\, activ
 e dans diverses associations \; elle milite pour le droit des femmes\, por
 te haut le rameau d’olivier de la paix et œuvre\, auprès des jeunes\, 
 pour le bien vivre ensemble dans sa cité. Autrice de plusieurs recueils\,
  sa poésie\, avec les mots du cœur\, reflètent ses valeurs profondémen
 t humanistes.\nFemme de partage\, à l’occasion de cette soirée "carte 
 blanche"\, elle a souhaité s'entourer de L'atelier percussion de la Mais
 on des Potes dirigé par Abdel Bouzbiba\, par les artistes de l'ABP (rap
 ) et peut-être un ou deux "standupeur".\nLes membres de l'association Mi
 lle-Poètes en Méditerranée sont heureux de pouvoir enfin l'accueillir e
 t de lire sa poésie à La Place des Arts.\nDes douceurs concoctées par L
 atifa (les latifateries) et les bénévoles des Mille-Poètes clôtureront
  la soirée.\n\nUne belle soirée intergénérationnelle sous le signe de 
 la fraternité !\n\nLibre participation
ATTACH;FMTTYPE=image/jpeg:https://millepoetesenmediterranee.org/wp-content
 /uploads/2026/03/Carte-blanche-a-Latifa.jpg
CATEGORIES:Soirées Places des Arts 2025-2026
LOCATION:Place des Arts\, 10 place Voltaire\, NARBONNE\, 11100\, Occitanie\
 , France
X-APPLE-STRUCTURED-LOCATION;VALUE=URI;X-ADDRESS=10 place Voltaire\, NARBONN
 E\, 11100\, Occitanie\, France;X-APPLE-RADIUS=100;X-TITLE=Place des Arts:g
 eo:0,0
END:VEVENT
BEGIN:VTIMEZONE
TZID:Europe/Paris
X-LIC-LOCATION:Europe/Paris
BEGIN:DAYLIGHT
DTSTART:20260329T030000
TZOFFSETFROM:+0100
TZOFFSETTO:+0200
TZNAME:CEST
END:DAYLIGHT
END:VTIMEZONE
END:VCALENDAR