BEGIN:VCALENDAR
VERSION:2.0
PRODID:-//wp-events-plugin.com//7.2.3.1//EN
TZID:Europe/Zurich
X-WR-TIMEZONE:Europe/Zurich
BEGIN:VEVENT
UID:326@millepoetesenmediterranee.org
DTSTART;TZID=Europe/Paris:20260313T203000
DTEND;TZID=Europe/Paris:20260313T220000
DTSTAMP:20260209T112844Z
URL:https://millepoetesenmediterranee.org/events/carte-blanche-a-jackie-mo
 ntana-petard-de-tisane/
SUMMARY:Carte blanche à Jackie Montana « Pétard de tisane ! »
DESCRIPTION:Carte blanche à Jackie Montana « Pétard de tisane ! »\nP
 eine\, sourire\, amour\, colère\, raison\, silence ! Autant de mots qui f
 ont résurgence et font écho au moi profond de l’auteure. Résumé de 2
 0 mois d’un parcours douloureux mais combien formateur\, Jackie Montana 
 par le biais de l’écriture\, avec humour et lyrisme\, exorcise ses doul
 eurs passées et compose une ode à la vie\, à une vie tournée vers l’
 avenir \; « Pétard de tisane » un beau message d’amour et d’esp
 érance à lire et partager sans modération !\n\nPrésentation\, lecture
  dédicace… \n\nLibre participation
ATTACH;FMTTYPE=image/jpeg:https://millepoetesenmediterranee.org/wp-content
 /uploads/2026/02/Jackie-Montana.jpg
CATEGORIES:Soirées Places des Arts 2025-2026
LOCATION:Place des Arts\, 10 place Voltaire\, NARBONNE\, 11100\, Occitanie\
 , France
X-APPLE-STRUCTURED-LOCATION;VALUE=URI;X-ADDRESS=10 place Voltaire\, NARBONN
 E\, 11100\, Occitanie\, France;X-APPLE-RADIUS=100;X-TITLE=Place des Arts:g
 eo:0,0
END:VEVENT
BEGIN:VTIMEZONE
TZID:Europe/Paris
X-LIC-LOCATION:Europe/Paris
BEGIN:STANDARD
DTSTART:20251026T020000
TZOFFSETFROM:+0200
TZOFFSETTO:+0100
TZNAME:CET
END:STANDARD
END:VTIMEZONE
END:VCALENDAR