BEGIN:VCALENDAR
VERSION:2.0
PRODID:-//wp-events-plugin.com//7.2.3.1//EN
TZID:Europe/Zurich
X-WR-TIMEZONE:Europe/Zurich
BEGIN:VEVENT
UID:344@millepoetesenmediterranee.org
DTSTART;TZID=Europe/Paris:20260417T203000
DTEND;TZID=Europe/Paris:20260417T223000
DTSTAMP:20260403T070427Z
URL:https://millepoetesenmediterranee.org/events/carnet-de-route-au-cambod
 ge-joelle-lemoine/
SUMMARY:« Carnet de route au Cambodge » Joëlle Lemoine
DESCRIPTION:Joëlle Lemoine \n« Carnet de route au Cambodge »\nJoëlle 
 Lemoine\, en compagnie de son fils Édouard (muraliste/graffeur invité à
  se produire au Festival d’Arts Urbains de Battambang\, a sillonné le C
 ambodge durant 6 semaines. À travers des projections de photos\, elle vie
 nt nous faire le récit de son voyage. Ainsi\, Joëlle\, vous invite à d
 écouvrir\, les temples d’Angkor\, le sanctuaire des éléphants au Mond
 ulkiri\, des villages flottants et traditionnels\, des îles paradisiaques
 \, les dauphins du Mékong\, les hauts plateaux du Laos… \; un beau voy
 age sur des chemins de traverses !\n\nLibre participation\n\n&nbsp\;
ATTACH;FMTTYPE=image/jpeg:https://millepoetesenmediterranee.org/wp-content
 /uploads/2026/04/Cambodge.jpg
CATEGORIES:Soirées Places des Arts 2025-2026
LOCATION:Place des Arts\, 10 place Voltaire\, NARBONNE\, 11100\, Occitanie\
 , France
X-APPLE-STRUCTURED-LOCATION;VALUE=URI;X-ADDRESS=10 place Voltaire\, NARBONN
 E\, 11100\, Occitanie\, France;X-APPLE-RADIUS=100;X-TITLE=Place des Arts:g
 eo:0,0
END:VEVENT
BEGIN:VTIMEZONE
TZID:Europe/Paris
X-LIC-LOCATION:Europe/Paris
BEGIN:DAYLIGHT
DTSTART:20260329T030000
TZOFFSETFROM:+0100
TZOFFSETTO:+0200
TZNAME:CEST
END:DAYLIGHT
END:VTIMEZONE
END:VCALENDAR